BEGIN:VCALENDAR
VERSION:2.0
PRODID:-//hacksw/handcal//NONSGML v1.0//EN
BEGIN:VEVENT
SUMMARY:Challenge Omnisports
UID:26f4c2e0-1250-4c42-9fbd-d04100ae4f91
DTSTART:20251026T090000Z
DTEND:20251026T153000Z
LOCATION:Localisation Stade de ma ville 72000 LE MANS
CATEGORIES:Sportif
STATUS:
DESCRIPTION:<p>Le challenge Omnisports organise par le club debutera
 sur le grand stade de la ville.<br>Les prix seront remis en
 soiree.</p>
URL;VALUE=URI:https://viet-vo-dao-le-roseau-chelles.sportsregions.fr/evenements/2025/10/26/challenge-omnisports-2343715
END:VEVENT
END:VCALENDAR
